BEGIN:VCALENDAR
VERSION:2.0
PRODID:-//Cactus Club //NONSGML Events //EN
CALSCALE:GREGORIAN
X-WR-CALNAME:Cactus Club
BEGIN:VEVENT
CREATED:20160812T040627Z
UID:1416
DTSTAMP:20260425T164558Z
DTSTART:20160920T000000
DTEND:20160920T030000
LOCATION:Cactus Club\, 2496 S. Wentworth Avenue\, Milwaukee\, WI 53207\, United States
DESCRIPTION:
SUMMARY:Animal Lover ϟ Gauss ϟ Absolutely ϟ DJ Sahan Jayasuriya
ORGANIZER:Cactus Club
URL;VALUE=URI:https://www.cactusclubmilwaukee.com/events/animal-lover-%cf%9f-gauss-%cf%9f-absolutely/
TRANSP:OPAQUE
END:VEVENT
END:VCALENDAR
