BEGIN:VCALENDAR
VERSION:2.0
PRODID:-//Cactus Club //NONSGML Events //EN
CALSCALE:GREGORIAN
X-WR-CALNAME:Cactus Club
BEGIN:VEVENT
CREATED:20210716T170033Z
UID:14496
DTSTAMP:20260423T153557Z
DTSTART:20210805T000000
DTEND:20210805T030000
LOCATION:Cactus Club\, 2496 S. Wentworth Avenue\, Milwaukee\, WI 53207\, United States
DESCRIPTION:
SUMMARY:SV + CC Present: Pinc Louds • The LOL
ORGANIZER:Cactus Club
URL;VALUE=URI:https://www.cactusclubmilwaukee.com/events/sv-cc-present-pinc-louds/
TRANSP:OPAQUE
END:VEVENT
END:VCALENDAR
