BEGIN:VCALENDAR
VERSION:2.0
PRODID:-//Cactus Club //NONSGML Events //EN
CALSCALE:GREGORIAN
X-WR-CALNAME:Cactus Club
BEGIN:VEVENT
CREATED:20220313T172346Z
UID:17589
DTSTAMP:20260424T160751Z
DTSTART:20220423T210000
DTEND:20220424T000000
LOCATION:Cactus Club\, 2496 S. Wentworth Avenue\, Milwaukee\, WI 53207\, United States
DESCRIPTION:<p class="p1">Notice: Proof of vaccination is required for entry into this event. Please show a valid vaccination card, clear photo of card, clear photocopy of card, or your state immunization registry which can be accessed <a href="https://sites.google.com/cactusclubmilwaukee.com/onlinevaccinerecords/home"><span class="s1">online</span></a>.</p> <p class="p1">All sales are final. Please take note of our current COVID-19 policy stated across multiple platforms.</p>
SUMMARY:Valerie Lighthart EP Release Show: ‘Pt. III: The Banshee’ w/ Lila Realm • Bisca Rae
ORGANIZER:Cactus Club
URL;VALUE=URI:https://www.cactusclubmilwaukee.com/events/valerie-lighthart-ep-release-show-pt-iii-the-banshee-w-lila-realm-bisca-rae/
TRANSP:OPAQUE
END:VEVENT
END:VCALENDAR
