BEGIN:VCALENDAR
VERSION:2.0
PRODID:-//Cactus Club //NONSGML Events //EN
CALSCALE:GREGORIAN
X-WR-CALNAME:Cactus Club
BEGIN:VEVENT
CREATED:20220331T234949Z
UID:18139
DTSTAMP:20260422T154909Z
DTSTART:20220826T190000
DTEND:20220827T190000
LOCATION:Cactus Club\, 2496 S. Wentworth Avenue\, Milwaukee\, WI 53207\, United States
DESCRIPTION:Introducing Milwaukee's own Cactus Club Independent Film Festival. Cactus Club is an inclusive artist-run bar and venue, specifically aiming to feature BIPOC and LGBTQ+ makers. We are excited to announce our first official film festival. Our fest will consist of three days of screenings: films made by international BIPOC filmmakers, films made by international LGBTQ+ filmmakers and experimental Milwaukee made films. Cactus Club looks forward to celebrating filmmakers of all backgrounds. This film fest will take place: August 26th  Screening 7-9pm August 27th Screening 3-5pm August 28th  Screening 3-5pm <a href="https://www.cactusclubmilwaukee.com/events/filmfest/cc-film-fest-2022-program-3/" rel="attachment wp-att-21345">CC Film Fest 2022 program</a>
SUMMARY:Cactus Club Independent Film Festival
ORGANIZER:Cactus Club
URL;VALUE=URI:https://www.cactusclubmilwaukee.com/events/filmfest/
TRANSP:OPAQUE
END:VEVENT
END:VCALENDAR
