BEGIN:VCALENDAR
VERSION:2.0
PRODID:-//Cactus Club //NONSGML Events //EN
CALSCALE:GREGORIAN
X-WR-CALNAME:Cactus Club
BEGIN:VEVENT
CREATED:20220805T185510Z
UID:21061
DTSTAMP:20260425T135735Z
DTSTART:20220821T213000
DTEND:20220822T003000
LOCATION:Cactus Club\, 2496 S. Wentworth Avenue\, Milwaukee\, WI 53207\, United States
DESCRIPTION:
SUMMARY:Trans Artist Highlight: Windy • Nine A.M. • Dahlia • Princess P • Onyx Online • Jessica Mears • DJ P1$$K1NK
ORGANIZER:Cactus Club
URL;VALUE=URI:https://www.cactusclubmilwaukee.com/events/trans-artist-highlight-flowers-windy-dahlia-princess-p-onyx/
TRANSP:OPAQUE
END:VEVENT
END:VCALENDAR
