BEGIN:VCALENDAR
VERSION:2.0
PRODID:-//Cactus Club //NONSGML Events //EN
CALSCALE:GREGORIAN
X-WR-CALNAME:Cactus Club
BEGIN:VEVENT
CREATED:20170211T165811Z
UID:2179
DTSTAMP:20260420T081642Z
DTSTART:20170302T010000
DTEND:20170302T040000
LOCATION:Cactus Club\, 2496 S. Wentworth Avenue\, Milwaukee\, WI 53207\, United States
DESCRIPTION:
SUMMARY:Wild Adriatic w/ Coyote
ORGANIZER:Cactus Club
URL;VALUE=URI:https://www.cactusclubmilwaukee.com/events/wild-adriatic-wtba/
TRANSP:OPAQUE
END:VEVENT
END:VCALENDAR
