BEGIN:VCALENDAR
VERSION:2.0
PRODID:-//Cactus Club //NONSGML Events //EN
CALSCALE:GREGORIAN
X-WR-CALNAME:Cactus Club
BEGIN:VEVENT
CREATED:20170430T180452Z
UID:2576
DTSTAMP:20260420T094733Z
DTSTART:20170525T000000
DTEND:20170525T030000
LOCATION:Cactus Club\, 2496 S. Wentworth Avenue\, Milwaukee\, WI 53207\, United States
DESCRIPTION:Wildhoney formed in late 2011, and set out to write pop songs with the energy and malcontent of hardcore punk, but without its entrenched masculinity — drawing influences from ‘60s girl groups, ‘80s post-punk, indie pop and shoegaze. The five-piece has since become one of the loudest — and sweetest — bands in its hometown of Baltimore. Slumberland records/Deranged/Forward/Topshelf Records https://slumberlandrecs.bandcamp.com/track/wildhoney-t-l-reprisal https://slumberlandrecs.bandcamp.com/track/wildhoney-horror-movie https://en.wikipedia.org/wiki/Wildhoney_(band) Haunter is a band based in Milwaukee that started making music back in 2011. They explore all the sounds you heard coming out of your big brother/sister’s hi-fi back in the 90’s, from bands like Galaxie 500, Duster, Acetone, or Codeine, harnessing them in a very despondent way that lacks energy. "Something like Yo La Tengo played at half-speed during the aftermath of a wildly important life moment." - GoldFlakePaint https://haunter.bandcamp.com/ More info TBA
SUMMARY:Wildhoney (slumberland recs) ϟ Calliope ϟ Haunter
ORGANIZER:Cactus Club
URL;VALUE=URI:https://www.cactusclubmilwaukee.com/events/wildhoney-slumberland-recs-%cf%9f-calliope-%cf%9f-haunter/
TRANSP:OPAQUE
END:VEVENT
END:VCALENDAR
