BEGIN:VCALENDAR
VERSION:2.0
PRODID:-//Cactus Club //NONSGML Events //EN
CALSCALE:GREGORIAN
X-WR-CALNAME:Cactus Club
BEGIN:VEVENT
CREATED:20230423T034727Z
UID:26413
DTSTAMP:20260420T033418Z
DTSTART:20230705T173000
DTEND:20230705T203000
LOCATION:Cactus Club\, 2496 S. Wentworth Avenue\, Milwaukee\, WI 53207\, United States
DESCRIPTION:<p dir="ltr">Join us Wednesday, July 5th at 5:30 for Cactus Book Club. This month’s CBC will be led by the Milwaukee Riverkeepers. We’ll discuss <a href="https://wwnorton.com/books/the-death-and-life-of-the-great-lakes/" target="_blank" rel="noopener" data-saferedirecturl="https://www.google.com/url?q=https://wwnorton.com/books/the-death-and-life-of-the-great-lakes/&source=gmail&ust=1682089042854000&usg=AOvVaw06PqSVbhW0_9YA1a46RmPM">The Death and Life of the Great Lakes </a>by local author Dan Egan. This “compulsively readable portrait of an ecological catastrophe happening right before our eyes, blending the epic story of the lakes with an examination of the perils they face and the ways we can restore and preserve them for generations to come.”</p> <p dir="ltr">Milwaukee Riverkeeper is a science-based advocacy organization working for swimmable, fishable rivers throughout the Milwaukee River Basin. Their mission is to protect, improve and advocate for water quality, riparian wildlife habitat, and sound land management in the Milwaukee, Menomonee, and Kinnickinnic River Watersheds. Learn more about upcoming events, projects, volunteer opportunities, and ways to advocate at <a href="http://www.milwaukeeriverkeeper.org/" target="_blank" rel="noopener" data-saferedirecturl="https://www.google.com/url?q=http://www.milwaukeeriverkeeper.org&source=gmail&ust=1682089042854000&usg=AOvVaw0YTf0kvBsKT4QyJTpybFZa">www.milwaukeeriverkeeper.org</a></p> <p dir="ltr">Recommended bookseller:<a href="http://www.boswellbooks.com/" target="_blank" rel="noopener" data-saferedirecturl="https://www.google.com/url?q=http://www.boswellbooks.com/&source=gmail&ust=1682089042854000&usg=AOvVaw2m40vHpLE_PnJRKTZvb1om"> www.boswellbooks.com </a></p> <p dir="ltr">Mention Cactus Book Club at checkout for 10% off in-store purchases or write "10% discount for Cactus Club book club" in the Comments box after credit card info for online purchases</p>
SUMMARY:Cactus Book Club: “The Death and Life of the Great Lakes” by Dan Egan
ORGANIZER:Cactus Club
URL;VALUE=URI:https://www.cactusclubmilwaukee.com/events/cactus-book-club-the-death-and-life-of-the-great-lakes-by-dan-egan/
TRANSP:OPAQUE
END:VEVENT
END:VCALENDAR
