BEGIN:VCALENDAR
VERSION:2.0
PRODID:-//Cactus Club //NONSGML Events //EN
CALSCALE:GREGORIAN
X-WR-CALNAME:Cactus Club
BEGIN:VEVENT
CREATED:20170615T065648Z
UID:2840
DTSTAMP:20260420T095606Z
DTSTART:20170621T000000
DTEND:20170621T030000
LOCATION:Cactus Club\, 2496 S. Wentworth Avenue\, Milwaukee\, WI 53207\, United States
DESCRIPTION:
SUMMARY:Many Braveries Ruby Yacht Mobile Suit Tritet Dustin Laurenzi & Jeremy Cunningham
ORGANIZER:Cactus Club
URL;VALUE=URI:https://www.cactusclubmilwaukee.com/events/many-braveries-ruby-yacht-mobile-suit-tritet-dustin-laurenzi-jeremy-cunningham/
TRANSP:OPAQUE
END:VEVENT
END:VCALENDAR
