BEGIN:VCALENDAR
VERSION:2.0
PRODID:-//Cactus Club //NONSGML Events //EN
CALSCALE:GREGORIAN
X-WR-CALNAME:Cactus Club
BEGIN:VEVENT
CREATED:20230719T173442Z
UID:28629
DTSTAMP:20260421T100220Z
DTSTART:20230902T180000
DTEND:20230902T210000
LOCATION:Cactus Club\, 2496 S. Wentworth Avenue\, Milwaukee\, WI 53207\, United States
DESCRIPTION:
SUMMARY:Blacktop (Album Release) • SSAANN • Shell Bells
ORGANIZER:Cactus Club
URL;VALUE=URI:https://www.cactusclubmilwaukee.com/events/blacktop-album-release/
TRANSP:OPAQUE
END:VEVENT
END:VCALENDAR
