BEGIN:VCALENDAR
VERSION:2.0
PRODID:-//Cactus Club //NONSGML Events //EN
CALSCALE:GREGORIAN
X-WR-CALNAME:Cactus Club
BEGIN:VEVENT
CREATED:20230907T180055Z
UID:29851
DTSTAMP:20260421T100640Z
DTSTART:20231014T183000
DTEND:20231014T213000
LOCATION:Cactus Club\, 2496 S. Wentworth Avenue\, Milwaukee\, WI 53207\, United States
DESCRIPTION:
SUMMARY:Social Caterpillar (Alphabet Crown Record Release) • snag • Caley Conway
ORGANIZER:Cactus Club
URL;VALUE=URI:https://www.cactusclubmilwaukee.com/events/social-caterpillar-alphabet-crown-record-release-snag-caley-conway/
TRANSP:OPAQUE
END:VEVENT
END:VCALENDAR
