BEGIN:VCALENDAR
VERSION:2.0
PRODID:-//Cactus Club //NONSGML Events //EN
CALSCALE:GREGORIAN
X-WR-CALNAME:Cactus Club
BEGIN:VEVENT
CREATED:20231115T170043Z
UID:31290
DTSTAMP:20260426T012049Z
DTSTART:20240223T210000
DTEND:20240224T000000
LOCATION:Cactus Club\, 2496 S. Wentworth Avenue\, Milwaukee\, WI 53207\, United States
DESCRIPTION:
SUMMARY:Brigitte Calls Me Baby • The Keystones
ORGANIZER:Cactus Club
URL;VALUE=URI:https://www.cactusclubmilwaukee.com/events/brigitte-calls-me-baby/
TRANSP:OPAQUE
END:VEVENT
END:VCALENDAR
