BEGIN:VCALENDAR
VERSION:2.0
PRODID:-//Cactus Club //NONSGML Events //EN
CALSCALE:GREGORIAN
X-WR-CALNAME:Cactus Club
BEGIN:VEVENT
CREATED:20170826T101646Z
UID:3207
DTSTAMP:20260424T133841Z
DTSTART:20170904T000000
DTEND:20170904T030000
LOCATION:Cactus Club\, 2496 S. Wentworth Avenue\, Milwaukee\, WI 53207\, United States
DESCRIPTION:
SUMMARY:The Dan Ryan w/Apollo Vermouth + TBA
ORGANIZER:Cactus Club
URL;VALUE=URI:https://www.cactusclubmilwaukee.com/events/the-dan-ryan-wapollo-vermouth-tba/
TRANSP:OPAQUE
END:VEVENT
END:VCALENDAR
