BEGIN:VCALENDAR
VERSION:2.0
PRODID:-//Cactus Club //NONSGML Events //EN
CALSCALE:GREGORIAN
X-WR-CALNAME:Cactus Club
BEGIN:VEVENT
CREATED:20240215T192334Z
UID:33174
DTSTAMP:20260422T101011Z
DTSTART:20240605T170000
DTEND:20240605T200000
LOCATION:Cactus Club\, 2496 S. Wentworth Avenue\, Milwaukee\, WI 53207\, United States
DESCRIPTION:FINAL SET LIST / LINE UP / INPUT 5pm - Nicholas Elert - unknown input 5:15 - The End I Love You - Single 1/4" stereo 5:30 - SLOW OWLS - unknown input 5:45 - Restraint Malfunction 2xlr 6pm - Pineoblastoma - Katana out mic / xlr aux xlr 6:15 - Mommy - 2x 1/4" LR Stereo 6:30 - Citizen 2-13 - 2x 1/4" Stereo 6:45 - Dan of Earth - ??? unknown input 7pm - FREE COUNTRY - XLR output L/R 7:15 - Pedro M. Gutierrez - ??? unknown input 7:30 - King of Salads - 2x 1/4" L/R OR 1 1/4" stereo 8pm - Eli Smith - 2x 1/4” LR stereo 8:15 - Lucky Bone - dual mono 1/4" L/R stereo out 8:30 - Apollo Vermouth - 2 XLR stereo out 8:45 - Nummy - unknown 9PM - ORC WITH SPEAR MOUNTED ON GIANT WOLF & LIZARD MAN 9:15 - COMPACTOR - 2 1/4" hard panned l/r 9:30 - Bison Squad - 1 or 2 1/4" outs 9:45 - The Smudge - 1/4" x2 stereo out 10PM - The Girlfriend Experience - violin to amp (no output needed) 10:15 - Whitey Alabastard - ??? unknown input 10:30 - Alexander Adams - 2x 1/4" LR stereo 10: 45 - Max Carl's Frequency Therapy - 1/4" 11PM - Battalion of Cloudships - single XLR 11:15 - Butt Mommy - ??? unknown input
SUMMARY:Milwaukee Noise Fest
ORGANIZER:Cactus Club
URL;VALUE=URI:https://www.cactusclubmilwaukee.com/events/milwaukee-noise-fest/
TRANSP:OPAQUE
END:VEVENT
END:VCALENDAR
