BEGIN:VCALENDAR
VERSION:2.0
PRODID:-//Cactus Club //NONSGML Events //EN
CALSCALE:GREGORIAN
X-WR-CALNAME:Cactus Club
BEGIN:VEVENT
CREATED:20240325T161507Z
UID:33926
DTSTAMP:20260424T165534Z
DTSTART:20240507T190000
DTEND:20240507T220000
LOCATION:Cactus Club\, 2496 S. Wentworth Avenue\, Milwaukee\, WI 53207\, United States
DESCRIPTION:
SUMMARY:Todd Day Wait • Long Mama
ORGANIZER:Cactus Club
URL;VALUE=URI:https://www.cactusclubmilwaukee.com/events/todd-day-wait-long-mama/
TRANSP:OPAQUE
END:VEVENT
END:VCALENDAR
