BEGIN:VCALENDAR
VERSION:2.0
PRODID:-//Cactus Club //NONSGML Events //EN
CALSCALE:GREGORIAN
X-WR-CALNAME:Cactus Club
BEGIN:VEVENT
CREATED:20240613T155123Z
UID:35929
DTSTAMP:20260423T044235Z
DTSTART:20240807T200000
DTEND:20240807T230000
LOCATION:Cactus Club\, 2496 S. Wentworth Avenue\, Milwaukee\, WI 53207\, United States
DESCRIPTION:
SUMMARY:Bats • Beauty Filter • Bronco
ORGANIZER:Cactus Club
URL;VALUE=URI:https://www.cactusclubmilwaukee.com/events/bats-beauty-filter-bronco/
TRANSP:OPAQUE
END:VEVENT
END:VCALENDAR
