BEGIN:VCALENDAR
VERSION:2.0
PRODID:-//Cactus Club //NONSGML Events //EN
CALSCALE:GREGORIAN
X-WR-CALNAME:Cactus Club
BEGIN:VEVENT
CREATED:20240617T180036Z
UID:36035
DTSTAMP:20260423T153905Z
DTSTART:20240810T210000
DTEND:20240811T000000
LOCATION:Cactus Club\, 2496 S. Wentworth Avenue\, Milwaukee\, WI 53207\, United States
DESCRIPTION:
SUMMARY:Subspace: Hack The Planet 90’s Rave Cyberpunk Dance Party
ORGANIZER:Cactus Club
URL;VALUE=URI:https://www.cactusclubmilwaukee.com/events/subspace-hack-the-planet-90s-rave-cyberpunk-dance-party/
TRANSP:OPAQUE
END:VEVENT
END:VCALENDAR
