BEGIN:VCALENDAR
VERSION:2.0
PRODID:-//Cactus Club //NONSGML Events //EN
CALSCALE:GREGORIAN
X-WR-CALNAME:Cactus Club
BEGIN:VEVENT
CREATED:20240624T165110Z
UID:36116
DTSTAMP:20260424T185233Z
DTSTART:20241023T200000
DTEND:20241023T230000
LOCATION:Cactus Club\, 2496 S. Wentworth Avenue\, Milwaukee\, WI 53207\, United States
DESCRIPTION:
SUMMARY:Allegra Krieger • Greg Mendez • Hemlock
ORGANIZER:Cactus Club
URL;VALUE=URI:https://www.cactusclubmilwaukee.com/events/allegra-krieger-w-greg-mendez/
TRANSP:OPAQUE
END:VEVENT
END:VCALENDAR
