BEGIN:VCALENDAR
VERSION:2.0
PRODID:-//Cactus Club //NONSGML Events //EN
CALSCALE:GREGORIAN
X-WR-CALNAME:Cactus Club
BEGIN:VEVENT
CREATED:20240722T155351Z
UID:36737
DTSTAMP:20260420T100529Z
DTSTART:20241217T200000
DTEND:20241217T230000
LOCATION:Cactus Club\, 2496 S. Wentworth Avenue\, Milwaukee\, WI 53207\, United States
DESCRIPTION:2 hours of trivia hosted by our friends at Milwaukee County Historical Society. Prizes for top three winners. Far ranging topics about local culture and our city's past.
SUMMARY:Milwaukee History Trivia Night
ORGANIZER:Cactus Club
URL;VALUE=URI:https://www.cactusclubmilwaukee.com/events/milwaukee-history-trivia-night/
TRANSP:OPAQUE
END:VEVENT
END:VCALENDAR
