BEGIN:VCALENDAR
VERSION:2.0
PRODID:-//Cactus Club //NONSGML Events //EN
CALSCALE:GREGORIAN
X-WR-CALNAME:Cactus Club
BEGIN:VEVENT
CREATED:20240805T184501Z
UID:37420
DTSTAMP:20260426T004436Z
DTSTART:20240810T180000
DTEND:20240810T210000
LOCATION:Cactus Club\, 2496 S. Wentworth Avenue\, Milwaukee\, WI 53207\, United States
DESCRIPTION:Cactus Club Independent Film Festival: Day 2, Program 2 Doors 3:45p <strong>Program 2: Feature Film Select </strong> Doors: 5:45pm <span style="font-weight: 400;">Program: 6:00-7:15p</span> 1. <span style="font-weight: 400;">Freedom, Wisconsin by Molly Preston 1:13:10</span>   <b>Installations/Video Art  </b> <span style="font-weight: 400;">(Will play repeatedly throughout the festival August 9-11th)</span> <ol> <li style="font-weight: 400;" aria-level="1"><span style="font-weight: 400;">Conditioning and Not Being Mended by Yu Pan</span></li> <li style="font-weight: 400;" aria-level="1"><span style="font-weight: 400;">Home by Evelyn Winter </span></li> <li style="font-weight: 400;" aria-level="1"><span style="font-weight: 400;">Barring the Unforeseen by Alex Boyes </span></li> <li style="font-weight: 400;" aria-level="1"><span style="font-weight: 400;">Don't Pretend You Didn't Know by Anya Liftig</span></li> <li style="font-weight: 400;" aria-level="1"><span style="font-weight: 400;">Clockwork Clear Applehead by Riley S Nelson</span></li> </ol>
SUMMARY:Cactus Club Independent Film Festival- Day 2, Program 2
ORGANIZER:Cactus Club
URL;VALUE=URI:https://www.cactusclubmilwaukee.com/events/cactus-club-independent-film-festival-day-2-program-2/
TRANSP:OPAQUE
END:VEVENT
END:VCALENDAR
