BEGIN:VCALENDAR
VERSION:2.0
PRODID:-//Cactus Club //NONSGML Events //EN
CALSCALE:GREGORIAN
X-WR-CALNAME:Cactus Club
BEGIN:VEVENT
CREATED:20240815T205416Z
UID:37836
DTSTAMP:20260420T081710Z
DTSTART:20250330T120000
DTEND:20250330T150000
LOCATION:Cactus Club\, 2496 S. Wentworth Avenue\, Milwaukee\, WI 53207\, United States
DESCRIPTION:When one really examines the foundation of an artistic practice, it starts with curiosity and a couple of wavy lines. The intent of this workshop series is to provide in-person instruction into various mediums with the most minimal equipment possible, so one can pursue their interest at home and without much set-up. The skills shared in these workshops will provide the confidence of a completed project and experience to move forward at home if inspired. Workshops can be attended as a stand-alone class or can be taken sequentially to build upon the previous project. This month ~ <strong>Duplication & Dissent: Relief Printmaking with Whatever is Available.</strong> Your host Zelda will guide you through creative, resourceful ways to make relief prints using different materials. Stop in to learn or refresh your memory and make some images to take home with you. DJ Solar will be spinning feel good tunes in the bar! <ul> <li>Wavy Lines is led by interdisciplinary artist Zelda HarlaQuinn (They/She). They hold degrees in both fiber art and printmaking from the University of Wisconsin – Milwaukee. Outside of an academic institution, they treasure the skills and knowledge gained growing up that have been passed down and taught in community by family, neighbors, and peers.</li> </ul>  
SUMMARY:Wavy Lines Workshop Series ~ Duplication & Dissent: Relief Printmaking with Whatever is Available • DJ Solar
ORGANIZER:Cactus Club
URL;VALUE=URI:https://www.cactusclubmilwaukee.com/events/wavy-lines-workshop-series-ghoulish-garlands-mixed-material-monster-mash-2-2/
TRANSP:OPAQUE
END:VEVENT
END:VCALENDAR
