BEGIN:VCALENDAR
VERSION:2.0
PRODID:-//Cactus Club //NONSGML Events //EN
CALSCALE:GREGORIAN
X-WR-CALNAME:Cactus Club
BEGIN:VEVENT
CREATED:20240821T173443Z
UID:37920
DTSTAMP:20260421T163752Z
DTSTART:20241116T230000
DTEND:20241117T020000
LOCATION:Cactus Club\, 2496 S. Wentworth Avenue\, Milwaukee\, WI 53207\, United States
DESCRIPTION:
SUMMARY:Body Meat • Anysia Kym • DORIS • bdwthr
ORGANIZER:Cactus Club
URL;VALUE=URI:https://www.cactusclubmilwaukee.com/events/body-meat/
TRANSP:OPAQUE
END:VEVENT
END:VCALENDAR
