BEGIN:VCALENDAR
VERSION:2.0
PRODID:-//Cactus Club //NONSGML Events //EN
CALSCALE:GREGORIAN
X-WR-CALNAME:Cactus Club
BEGIN:VEVENT
CREATED:20240905T232321Z
UID:38359
DTSTAMP:20260424T185915Z
DTSTART:20241027T190000
DTEND:20241027T220000
LOCATION:Cactus Club\, 2496 S. Wentworth Avenue\, Milwaukee\, WI 53207\, United States
DESCRIPTION:The Cosmic Country Showcase is back for three nights at Color Club this fall. Lunar crooner Andrew Sa and cosmic clown Mary Williamson take us on a journey through the Cosmic Country that’s gone all kinds of sideways. The house band, The Flying Objects, guide our hosts and esteemed guests through their nightmarish country-psych revue with classic country-ish covers and originals along with comedians, drag performers, and more! Musical Guests (cover sets): Julia Stiener (Ratboys) Gabacho Dani Jean-Baptiste (Fruitleather) Alex Grelle
SUMMARY:Cosmic Country Showcase: Bad Trip – Hosted by Andrew Sa & Mary Williamson • Old Pup
ORGANIZER:Cactus Club
URL;VALUE=URI:https://www.cactusclubmilwaukee.com/events/cosmic-country-showcase-bad-trip-hosted-by-andrew-sa-mary-williamson-old-pup/
TRANSP:OPAQUE
END:VEVENT
END:VCALENDAR
