BEGIN:VCALENDAR
VERSION:2.0
PRODID:-//Cactus Club //NONSGML Events //EN
CALSCALE:GREGORIAN
X-WR-CALNAME:Cactus Club
BEGIN:VEVENT
CREATED:20240912T210016Z
UID:38492
DTSTAMP:20260424T185800Z
DTSTART:20241024T190000
DTEND:20241024T220000
LOCATION:Cactus Club\, 2496 S. Wentworth Avenue\, Milwaukee\, WI 53207\, United States
DESCRIPTION:
SUMMARY:The Nunnery + Dosh • Luke Callen • Maximiano • Jesse Walker’s Hitch
ORGANIZER:Cactus Club
URL;VALUE=URI:https://www.cactusclubmilwaukee.com/events/the-nunnery-dosh-luke-callen-maximiano-jesse-walkers-hitch/
TRANSP:OPAQUE
END:VEVENT
END:VCALENDAR
