BEGIN:VCALENDAR
VERSION:2.0
PRODID:-//Cactus Club //NONSGML Events //EN
CALSCALE:GREGORIAN
X-WR-CALNAME:Cactus Club
BEGIN:VEVENT
CREATED:20240926T161354Z
UID:38810
DTSTAMP:20260420T094507Z
DTSTART:20241214T210000
DTEND:20241215T000000
LOCATION:Cactus Club\, 2496 S. Wentworth Avenue\, Milwaukee\, WI 53207\, United States
DESCRIPTION:
SUMMARY:The Panoptics • Moonglow • Varsity Mac
ORGANIZER:Cactus Club
URL;VALUE=URI:https://www.cactusclubmilwaukee.com/events/the-panoptics-moonglow-varsity-mac/
TRANSP:OPAQUE
END:VEVENT
END:VCALENDAR
