BEGIN:VCALENDAR
VERSION:2.0
PRODID:-//Cactus Club //NONSGML Events //EN
CALSCALE:GREGORIAN
X-WR-CALNAME:Cactus Club
BEGIN:VEVENT
CREATED:20240929T204315Z
UID:38855
DTSTAMP:20260420T093842Z
DTSTART:20250107T190000
DTEND:20250107T220000
LOCATION:Cactus Club\, 2496 S. Wentworth Avenue\, Milwaukee\, WI 53207\, United States
DESCRIPTION:Come out for our monthly party with local skateshop Sky High!! Fun drink specials, skate videos on the TVs, Sky High DJs, and more!!
SUMMARY:Sky High Night!
ORGANIZER:Cactus Club
URL;VALUE=URI:https://www.cactusclubmilwaukee.com/events/sky-high-night-19/
TRANSP:OPAQUE
END:VEVENT
END:VCALENDAR
