BEGIN:VCALENDAR
VERSION:2.0
PRODID:-//Cactus Club //NONSGML Events //EN
CALSCALE:GREGORIAN
X-WR-CALNAME:Cactus Club
BEGIN:VEVENT
CREATED:20241007T195857Z
UID:38900
DTSTAMP:20260422T164350Z
DTSTART:20241114T200000
DTEND:20241114T230000
LOCATION:Cactus Club\, 2496 S. Wentworth Avenue\, Milwaukee\, WI 53207\, United States
DESCRIPTION:
SUMMARY:The Go Rounds • Lunde • Gold Label
ORGANIZER:Cactus Club
URL;VALUE=URI:https://www.cactusclubmilwaukee.com/events/the-go-rounds-lunde-gold-label/
TRANSP:OPAQUE
END:VEVENT
END:VCALENDAR
