BEGIN:VCALENDAR
VERSION:2.0
PRODID:-//Cactus Club //NONSGML Events //EN
CALSCALE:GREGORIAN
X-WR-CALNAME:Cactus Club
BEGIN:VEVENT
CREATED:20241118T213516Z
UID:39735
DTSTAMP:20260420T081605Z
DTSTART:20250421T180000
DTEND:20250421T210000
LOCATION:Cactus Club\, 2496 S. Wentworth Avenue\, Milwaukee\, WI 53207\, United States
DESCRIPTION:
SUMMARY:*RESCHEDULED* One Funny Hour: With Alan Resnick • Anna Seregina
ORGANIZER:Cactus Club
URL;VALUE=URI:https://www.cactusclubmilwaukee.com/events/one-funny-hour-with-alan-resnick-anna-seregina/
TRANSP:OPAQUE
END:VEVENT
END:VCALENDAR
