BEGIN:VCALENDAR
VERSION:2.0
PRODID:-//Cactus Club //NONSGML Events //EN
CALSCALE:GREGORIAN
X-WR-CALNAME:Cactus Club
BEGIN:VEVENT
CREATED:20241129T210720Z
UID:39910
DTSTAMP:20260420T094555Z
DTSTART:20241212T200000
DTEND:20241212T230000
LOCATION:Cactus Club\, 2496 S. Wentworth Avenue\, Milwaukee\, WI 53207\, United States
DESCRIPTION:Join us for a fundraising screening for Haneen Muhammad Koraz's animation workshops in Gaza. Koraz is currently teaching women and children in displacement camps in Gaza how to animate. These workshops serve as both an act of resilience and resistance, helping her community learn new skills, make art, and document their stories. This screening will be raising money to help Haneen continue to teach workshops in Gaza with her team of artists. The collection of animations will play on a loop from 7-9 pm. All proceeds go to Haneen's Go Fundme      
SUMMARY:Animation Screening For Gaza
ORGANIZER:Cactus Club
URL;VALUE=URI:https://www.cactusclubmilwaukee.com/events/animation-screening-for-gaza/
TRANSP:OPAQUE
END:VEVENT
END:VCALENDAR
