BEGIN:VCALENDAR
VERSION:2.0
PRODID:-//Cactus Club //NONSGML Events //EN
CALSCALE:GREGORIAN
X-WR-CALNAME:Cactus Club
BEGIN:VEVENT
CREATED:20241203T215452Z
UID:39963
DTSTAMP:20260420T081629Z
DTSTART:20241211T233000
DTEND:20241212T023000
LOCATION:Cactus Club\, 2496 S. Wentworth Avenue\, Milwaukee\, WI 53207\, United States
DESCRIPTION:
SUMMARY:The Serve: Slumber Party Animal Edition
ORGANIZER:Cactus Club
URL;VALUE=URI:https://www.cactusclubmilwaukee.com/events/the-serve-slumber-party-animal-edition/
TRANSP:OPAQUE
END:VEVENT
END:VCALENDAR
