BEGIN:VCALENDAR
VERSION:2.0
PRODID:-//Cactus Club //NONSGML Events //EN
CALSCALE:GREGORIAN
X-WR-CALNAME:Cactus Club
BEGIN:VEVENT
CREATED:20241204T221843Z
UID:40070
DTSTAMP:20260420T094421Z
DTSTART:20241211T200000
DTEND:20241211T230000
LOCATION:Cactus Club\, 2496 S. Wentworth Avenue\, Milwaukee\, WI 53207\, United States
DESCRIPTION:
SUMMARY:Eli White • Melo Tuned • Atlik • MrkII
ORGANIZER:Cactus Club
URL;VALUE=URI:https://www.cactusclubmilwaukee.com/events/eli-white-melo-tuned-atlik-mrkii/
TRANSP:OPAQUE
END:VEVENT
END:VCALENDAR
