BEGIN:VCALENDAR
VERSION:2.0
PRODID:-//Cactus Club //NONSGML Events //EN
CALSCALE:GREGORIAN
X-WR-CALNAME:Cactus Club
BEGIN:VEVENT
CREATED:20241230T200958Z
UID:40391
DTSTAMP:20260422T023949Z
DTSTART:20250104T140000
DTEND:20250104T170000
LOCATION:Cactus Club\, 2496 S. Wentworth Avenue\, Milwaukee\, WI 53207\, United States
DESCRIPTION:All people of all levels of familiarity with digital DJing are invited, and guidance for the equipment will be readily available. If you don’t have your own music and you’re interested in learning about digital DJing, you are welcome to play ours! Bring a USB with your music loaded. Play a couple tracks, chat about production and hear new music. All levels and all people welcome.
SUMMARY:Open Decks – Digital Edition (January 2025)
ORGANIZER:Cactus Club
URL;VALUE=URI:https://www.cactusclubmilwaukee.com/events/open-decks-digital-edition-january-2025/
TRANSP:OPAQUE
END:VEVENT
END:VCALENDAR
