BEGIN:VCALENDAR
VERSION:2.0
PRODID:-//Cactus Club //NONSGML Events //EN
CALSCALE:GREGORIAN
X-WR-CALNAME:Cactus Club
BEGIN:VEVENT
CREATED:20250108T212734Z
UID:40559
DTSTAMP:20260422T165529Z
DTSTART:20250512T190000
DTEND:20250512T220000
LOCATION:Cactus Club\, 2496 S. Wentworth Avenue\, Milwaukee\, WI 53207\, United States
DESCRIPTION:
SUMMARY:Winged Wheel • Nurse Julie • DJ Gosha
ORGANIZER:Cactus Club
URL;VALUE=URI:https://www.cactusclubmilwaukee.com/events/winged-wheel/
TRANSP:OPAQUE
END:VEVENT
END:VCALENDAR
