BEGIN:VCALENDAR
VERSION:2.0
PRODID:-//Cactus Club //NONSGML Events //EN
CALSCALE:GREGORIAN
X-WR-CALNAME:Cactus Club
BEGIN:VEVENT
CREATED:20250325T200953Z
UID:42396
DTSTAMP:20260419T125151Z
DTSTART:20250411T230000
DTEND:20250412T020000
LOCATION:Cactus Club\, 2496 S. Wentworth Avenue\, Milwaukee\, WI 53207\, United States
DESCRIPTION:
SUMMARY:Legion Of Doom – Miss Twink USA • Shaun Lacosta Sinclair • FUJ
ORGANIZER:Cactus Club
URL;VALUE=URI:https://www.cactusclubmilwaukee.com/events/legion-of-doom-miss-twink-usa-shaun-lacosta-sinclair-fuj/
TRANSP:OPAQUE
END:VEVENT
END:VCALENDAR
