BEGIN:VCALENDAR
VERSION:2.0
PRODID:-//Cactus Club //NONSGML Events //EN
CALSCALE:GREGORIAN
X-WR-CALNAME:Cactus Club
BEGIN:VEVENT
CREATED:20180220T161419Z
UID:4345
DTSTAMP:20260426T015839Z
DTSTART:20180418T000000
DTEND:20180418T030000
LOCATION:Cactus Club\, 2496 S. Wentworth Avenue\, Milwaukee\, WI 53207\, United States
DESCRIPTION:
SUMMARY:Post Animal | Anna Burch | Slow Walker | Heavy Critters
ORGANIZER:Cactus Club
URL;VALUE=URI:https://www.cactusclubmilwaukee.com/events/post-animal-wheavy-critters-tba/
TRANSP:OPAQUE
END:VEVENT
END:VCALENDAR
