BEGIN:VCALENDAR
VERSION:2.0
PRODID:-//Cactus Club //NONSGML Events //EN
CALSCALE:GREGORIAN
X-WR-CALNAME:Cactus Club
BEGIN:VEVENT
CREATED:20250608T202655Z
UID:45289
DTSTAMP:20260419T130113Z
DTSTART:20250831T120000
DTEND:20250831T150000
LOCATION:Cactus Club\, 2496 S. Wentworth Avenue\, Milwaukee\, WI 53207\, United States
DESCRIPTION:Wavy Lines - In Praise of PULP: This series of workshops will explore the diverse uses in which cellulose fibers can be used to make an assortment of objects often associated with non-cellular high volume production based materials such as: plastics, ceramics, or metals. This is a celebration of paper-like materials and their diverse and expansive uses. This month learn to make paper vessels! Sliding scale entry fee $10-20 <span style="font-weight: 400;">Thanks to a grant from Wispact, we are able to offer free event vouchers to anyone who identifies as neurodivergent, disabled, or chronically ill. Select the free admission option on the website registration to claim your voucher.</span>
SUMMARY:Wavy Lines Workshop Series ~ In Praise of Pulp: Paper Vessels
ORGANIZER:Cactus Club
URL;VALUE=URI:https://www.cactusclubmilwaukee.com/events/wavy-lines-workshop-series-in-praise-of-pulp-paper-vessels/
TRANSP:OPAQUE
END:VEVENT
END:VCALENDAR
