BEGIN:VCALENDAR
VERSION:2.0
PRODID:-//Cactus Club //NONSGML Events //EN
CALSCALE:GREGORIAN
X-WR-CALNAME:Cactus Club
BEGIN:VEVENT
CREATED:20240828T180231Z
UID:45910
DTSTAMP:20260419T174939Z
DTSTART:20260104T130000
DTEND:20260104T160000
LOCATION:Cactus Club\, 2496 S. Wentworth Avenue\, Milwaukee\, WI 53207\, United States
DESCRIPTION:Performances will take place during the HALF TIME of the football games they're associated with. The time listed on the site is in conjunction with the start of the game :) As usual, there will be a DJ playing music during commercial breaks. There will also be touchdown shots (both regular and N/A options will be offered). Games will be shown in the bar as usual, but they’ll also be shown on a projector screen in Cactus Club’s live room. Often Tranfer's delicious pizza will arrive in many boxes for your free enjoyment. And we repeat: THERE’S NO COVER CHARGE for the concerts. All ages welcome. Go Pack!   Many thanks to our sponsors: Milwaukee Record, Hamms, Transfer Pizzeria, Wynk Seltzer + THC
SUMMARY:Milwaukee Record Halftime Show: Chinese Telephones + DJ Tommy
ORGANIZER:Cactus Club
URL;VALUE=URI:https://www.cactusclubmilwaukee.com/events/milwaukee-record-halftime-show-chinesetelephones-2-2-2-2-2-2-2/
TRANSP:OPAQUE
END:VEVENT
END:VCALENDAR
