BEGIN:VCALENDAR
VERSION:2.0
PRODID:-//Cactus Club //NONSGML Events //EN
CALSCALE:GREGORIAN
X-WR-CALNAME:Cactus Club
BEGIN:VEVENT
CREATED:20251009T215135Z
UID:46716
DTSTAMP:20260419T160305Z
DTSTART:20260107T183000
DTEND:20260107T213000
LOCATION:Cactus Club\, 2496 S. Wentworth Avenue\, Milwaukee\, WI 53207\, United States
DESCRIPTION:<p style="font-weight: 400;"><span style="font-weight: 400;">Start your new year reading goals with Cactus Book Club! We’re delighted to have the </span><a href="https://www.milwaukeeturners.org/"><span style="font-weight: 400;">Milwaukee Turners</span></a><span style="font-weight: 400;"> lead the discussion on Wednesday, January 7, 2026 at 5:30. We’ll read </span><a href="https://thenewpress.org/books/copaganda/?v=eb65bcceaa5f"><i><span style="font-weight: 400;">Copaganda: How the Police and the Media Manipulate Our News</span></i></a> <span style="font-weight: 400;">by Alec Karakatsanis. “</span><span style="font-weight: 400;">In this groundbreaking expose, essential for understanding the rising authoritarian mindset, award-winning civil rights lawyer Alec Karakatsanis introduces the concept of “Copaganda.” He defines Copaganda as a special kind of propaganda employed by police, prosecutors, and news media that stokes fear of police-recorded crime and distorts society’s responses to it. Every day, mass media manipulates our perception of what keeps us safe and contributes to a culture fearful of poor people, strangers, immigrants, unhoused people, and people of color. The result is more and more authoritarian state repression, more inequality, and huge profits for the massive public and private punishment bureaucracy.”</span></p> <p style="font-weight: 400;"><span style="font-weight: 400;">Recommended bookseller: </span><a href="https://boswellbooks.com/"><span style="font-weight: 400;">Boswell Book Company</span></a><span style="font-weight: 400;">. *Mention Cactus Book Club at checkout to receive a 10% discount</span></p> <p style="font-weight: 400;"><span style="font-weight: 400;">“Working for social justice since 1853, the </span><a href="https://www.milwaukeeturners.org/"><span style="font-weight: 400;">Milwaukee Turners</span></a><span style="font-weight: 400;"> are the oldest civic group in the city, dedicated to strengthening our community based on the ideal of a ‘Sound Mind in a Sound Body’. Their guiding principles are ‘Liberty against all oppression; Tolerance against all fanaticism; Reason against all superstition; and Justice against all exploitation.’ They seek to be the embodiment of a diverse community in practices that confronts injustice; and fosters wellness, community restoration, and civic empowerment to advance the residents of Milwaukee and its neighbors”. Find out more: <a href="https://www.milwaukeeturners.org/">here</a></span></p> <p style="font-weight: 400;"><span style="font-weight: 400;"><strong>ABOUT US</strong>: Cactus Book Club (CBC) meets on the first Wednesday of the month from 5:30-7:30 in the back room at Cactus Club. Each month a different community organization, collective, mutual aid group, or business chooses the book & recommended bookseller then leads the discussion. We read sociopolitical fiction and non-fiction, with a focus on works by women, LGBTQ+, BIPOC, and/or otherwise under-published groups. You don’t have to finish reading the book to attend. All book club meetings are free. No registration required. 18+. CBC is part of our ongoing </span><a href="https://www.cactusclubmilwaukee.com/cactus-plus/"><span style="font-weight: 400;">Cactus+ programming</span></a><span style="font-weight: 400;">. Contact kelly@cactusplus.org with questions or suggestions. </span></p> <strong><a href="https://www.cactusclubmilwaukee.com/get-involved-with-cactus-plus/?application_type=Book%20Club%20Discussion%20Leader&_gl=1*sdeqiw*_ga*NDQ1OTYwNjMwLjE3MjAzNzYyODk.*_ga_Q4T4VCP93W*MTczODYxMjUzNy41Ni4xLjE3Mzg2MTM4NjEuMC4wLjA.">Interested in leading a book club? Apply here</a></strong>
SUMMARY:Cactus Book Club: “Copaganda: How the Police and the Media Manipulate Our News” by Alec Karakatsanis
ORGANIZER:Cactus Club
URL;VALUE=URI:https://www.cactusclubmilwaukee.com/events/cbc-jan7-2026/
TRANSP:OPAQUE
END:VEVENT
END:VCALENDAR
