BEGIN:VCALENDAR
VERSION:2.0
PRODID:-//Cactus Club //NONSGML Events //EN
CALSCALE:GREGORIAN
X-WR-CALNAME:Cactus Club
BEGIN:VEVENT
CREATED:20251106T183155Z
UID:47146
DTSTAMP:20260419T175157Z
DTSTART:20260109T190000
DTEND:20260109T220000
LOCATION:Cactus Club\, 2496 S. Wentworth Avenue\, Milwaukee\, WI 53207\, United States
DESCRIPTION:
SUMMARY:Oh Well, Ok • Scrunchies • Crash House • Socially Suspect
ORGANIZER:Cactus Club
URL;VALUE=URI:https://www.cactusclubmilwaukee.com/events/oh-well-ok-scrunchies-crash-house-socially-suspect/
TRANSP:OPAQUE
END:VEVENT
END:VCALENDAR
