BEGIN:VCALENDAR
VERSION:2.0
PRODID:-//Cactus Club //NONSGML Events //EN
CALSCALE:GREGORIAN
X-WR-CALNAME:Cactus Club
BEGIN:VEVENT
CREATED:20251202T160041Z
UID:47535
DTSTAMP:20260419T160248Z
DTSTART:20260209T200000
DTEND:20260209T230000
LOCATION:Cactus Club\, 2496 S. Wentworth Avenue\, Milwaukee\, WI 53207\, United States
DESCRIPTION:
SUMMARY:BASIC: Chris Forsyth, Douglas McCombs, Mikel Patrick Avery • Andrew Trim
ORGANIZER:Cactus Club
URL;VALUE=URI:https://www.cactusclubmilwaukee.com/events/basic-chris-forsyth-douglas-mccombs-mikel-patrick-avery-2/
TRANSP:OPAQUE
END:VEVENT
END:VCALENDAR
