BEGIN:VCALENDAR
VERSION:2.0
PRODID:-//Cactus Club //NONSGML Events //EN
CALSCALE:GREGORIAN
X-WR-CALNAME:Cactus Club
BEGIN:VEVENT
CREATED:20251218T181530Z
UID:47902
DTSTAMP:20260419T160805Z
DTSTART:20260201T190000
DTEND:20260201T220000
LOCATION:Cactus Club\, 2496 S. Wentworth Avenue\, Milwaukee\, WI 53207\, United States
DESCRIPTION:Noche de Otros Mundos returns to Cactus Club! This event features Colombian music Happy Hour with DJ Palante, independent short films from Colombia’s Otros Mundos production company, and Latin American Karaoke. All profits from this event go to the <a href="https://gazasunbirds.org/">Gaza Sunbirds Paracycling Team</a>. Organized by Eric Kleppe-Montenegro, a documentary filmmaker and cultural organizer based in Milwaukee’s South Side. He also organizes Milwaukee’s Big Ride for Palestine, a solidarity group ride for the Gaza Sunbirds, since March 2024. <div><strong>Program~</strong></div> <div>Gritando Cambio: Raw Brigade (4min)</div> <div>Una Historia Sin Permiso (24min)</div> <div>Prohibido Olvidar (18min)</div> <div>El Mundo Es Un Pizarrón (20min)</div> <div></div>    
SUMMARY:Noche de Otros Mundos – Colombian Film and Latin American Karaoke Night
ORGANIZER:Cactus Club
URL;VALUE=URI:https://www.cactusclubmilwaukee.com/events/noche-de-otros-mundos-colombian-film-and-latin-american-karaoke-night/
TRANSP:OPAQUE
END:VEVENT
END:VCALENDAR
