BEGIN:VCALENDAR
VERSION:2.0
PRODID:-//Cactus Club //NONSGML Events //EN
CALSCALE:GREGORIAN
X-WR-CALNAME:Cactus Club
BEGIN:VEVENT
CREATED:20251218T160009Z
UID:47931
DTSTAMP:20260419T163618Z
DTSTART:20260105T200000
DTEND:20260105T230000
LOCATION:Cactus Club\, 2496 S. Wentworth Avenue\, Milwaukee\, WI 53207\, United States
DESCRIPTION:
SUMMARY:No Thanks To You • Bowvee • The Precipitators
ORGANIZER:Cactus Club
URL;VALUE=URI:https://www.cactusclubmilwaukee.com/events/no-thanks-to-you-bowvee-the-percipitators/
TRANSP:OPAQUE
END:VEVENT
END:VCALENDAR
