BEGIN:VCALENDAR
VERSION:2.0
PRODID:-//Cactus Club //NONSGML Events //EN
CALSCALE:GREGORIAN
X-WR-CALNAME:Cactus Club
BEGIN:VEVENT
CREATED:20251219T200040Z
UID:47948
DTSTAMP:20260419T160305Z
DTSTART:20260123T193000
DTEND:20260123T223000
LOCATION:Cactus Club\, 2496 S. Wentworth Avenue\, Milwaukee\, WI 53207\, United States
DESCRIPTION:
SUMMARY:Lunde (Album Release Show) • Chapped Lips • Zach Pietrini
ORGANIZER:Cactus Club
URL;VALUE=URI:https://www.cactusclubmilwaukee.com/events/lunde-album-release-show-chapped-lips-zach-pietrini/
TRANSP:OPAQUE
END:VEVENT
END:VCALENDAR
