BEGIN:VCALENDAR
VERSION:2.0
PRODID:-//Cactus Club //NONSGML Events //EN
CALSCALE:GREGORIAN
X-WR-CALNAME:Cactus Club
BEGIN:VEVENT
CREATED:20260111T185709Z
UID:48506
DTSTAMP:20260419T173418Z
DTSTART:20260129T200000
DTEND:20260129T230000
LOCATION:Cactus Club\, 2496 S. Wentworth Avenue\, Milwaukee\, WI 53207\, United States
DESCRIPTION:<p style="font-weight: 400;">Extra! Extra! Ravey freakfest at Cactus Club featuring live visuals, live synth performance, and raucous vinyl and digital DJs. It’s all synced to one sacred goal: a sweaty Thursday night. Let’s go somewhere; you can trust these Language Models.</p> <p style="font-weight: 400;">7-9: lalafroufrou opens the night and our hearts with vinyl hits for the hips from then and now. Whatever your style, lalafroufrou is for you.</p> <p style="font-weight: 400;">9-930: Language Models attunes the room with live synthesis: kicks and rimshots, pads and stabs and arps, basslines, and at least three pedals.</p> <p style="font-weight: 400;">930-11: Anastasis rolls in to rip 90s techno sensibilities, but this ain’t no nostalgic futurism. When you step through the door, dancing darkness gathers you up in a warm embrace and you join the floor as it yearns for more.</p> <p style="font-weight: 400;">11-12: Language Models cradles the night to a close with left field, dub, and just gosh dang pretty techno. Come on in for a warm bass hug, and stay for the beats and rhythms.</p> All Night: Gordon's Wire Works provides lighting and visual textures for your hypnotic pleasures.
SUMMARY:Transport v. 15: Anastasis • lalafroufrou • Language Models • Gordon’s Wire Works (live visuals)
ORGANIZER:Cactus Club
URL;VALUE=URI:https://www.cactusclubmilwaukee.com/events/transport-v-15-anastasis-lalafroufrou-language-models-gordons-wire-works-live-visuals/
TRANSP:OPAQUE
END:VEVENT
END:VCALENDAR
