BEGIN:VCALENDAR
VERSION:2.0
PRODID:-//Cactus Club //NONSGML Events //EN
CALSCALE:GREGORIAN
X-WR-CALNAME:Cactus Club
BEGIN:VEVENT
CREATED:20260129T221628Z
UID:49084
DTSTAMP:20260419T160713Z
DTSTART:20260208T130000
DTEND:20260208T160000
LOCATION:Cactus Club\, 2496 S. Wentworth Avenue\, Milwaukee\, WI 53207\, United States
DESCRIPTION:Shake off your boots and come on down to Cactus Club on Sunday, February 8th for a special artist market <3 Anya Notanja Sieger (<a class="x1i10hfl xjbqb8w x1ejq31n x18oe1m7 x1sy0etr xstzfhl x972fbf x10w94by x1qhh985 x14e42zd x9f619 x1ypdohk xt0psk2 x3ct3a4 xdj266r x14z9mp xat24cr x1lziwak xexx8yu xyri2b x18d9i69 x1c1uobl x16tdsg8 x1hl2dhg xggy1nq x1a2a7pz notranslate _a6hd" tabindex="0" role="link" href="https://www.instagram.com/anjanotanja/">@anjanotanja</a>) will be typewriting custom poetry on whatever your heart desires 📝💗 Bologna Bakes (<a class="x1i10hfl xjbqb8w x1ejq31n x18oe1m7 x1sy0etr xstzfhl x972fbf x10w94by x1qhh985 x14e42zd x9f619 x1ypdohk xt0psk2 x3ct3a4 xdj266r x14z9mp xat24cr x1lziwak xexx8yu xyri2b x18d9i69 x1c1uobl x16tdsg8 x1hl2dhg xggy1nq x1a2a7pz notranslate _a6hd" tabindex="0" role="link" href="https://www.instagram.com/bologna_bakes/">@bologna_bakes</a>) bringing the sweetness with so so so tasty baked goods 🔥☁️ Caitlin Rooney (<a class="x1i10hfl xjbqb8w x1ejq31n x18oe1m7 x1sy0etr xstzfhl x972fbf x10w94by x1qhh985 x14e42zd x9f619 x1ypdohk xt0psk2 x3ct3a4 xdj266r x14z9mp xat24cr x1lziwak xexx8yu xyri2b x18d9i69 x1c1uobl x16tdsg8 x1hl2dhg xggy1nq x1a2a7pz notranslate _a6hd" tabindex="0" role="link" href="https://www.instagram.com/oldoriginal/">@oldoriginal</a>) coming thru with their drawings, garments, and poetry 🕊🖤 Slow Burn Collection (<a href="https://www.instagram.com/slowburncollection">@slowburncollection</a>) with beautiful beeswax candles and natural fragrance and body care 🕯️🌾 Rose of Jericho (<a class="x1i10hfl xjbqb8w x1ejq31n x18oe1m7 x1sy0etr xstzfhl x972fbf x10w94by x1qhh985 x14e42zd x9f619 x1ypdohk xt0psk2 x3ct3a4 xdj266r x14z9mp xat24cr x1lziwak xexx8yu xyri2b x18d9i69 x1c1uobl x16tdsg8 x1hl2dhg xggy1nq x1a2a7pz notranslate _a6hd" tabindex="0" role="link" href="https://www.instagram.com/roseof.jericho/">@roseof.jericho</a>) will have their spread of home & body adornments ~ ceramics, prints, and more ⭐️🌿 DJ Brit Anyone (<a class="x1i10hfl xjbqb8w x1ejq31n x18oe1m7 x1sy0etr xstzfhl x972fbf x10w94by x1qhh985 x14e42zd x9f619 x1ypdohk xt0psk2 x3ct3a4 xdj266r x14z9mp xat24cr x1lziwak xexx8yu xyri2b x18d9i69 x1c1uobl x16tdsg8 x1hl2dhg xggy1nq x1a2a7pz notranslate _a6hd" tabindex="0" role="link" href="https://www.instagram.com/brit.anyone/">@brit.anyone</a>) will be spinning tunes in the bar 🎵 The Risograph printer will also be out to give you a chance to make a card for your sweetie, your neighbor, maybe even your enemy 🤺 Donation based 🫂 Free ● 12:00 - 4:00 ● All ages, always ♾️
SUMMARY:Indoor Artist Market
ORGANIZER:Cactus Club
URL;VALUE=URI:https://www.cactusclubmilwaukee.com/events/indoor-artist-market/
TRANSP:OPAQUE
END:VEVENT
END:VCALENDAR
