BEGIN:VCALENDAR
VERSION:2.0
PRODID:-//Cactus Club //NONSGML Events //EN
CALSCALE:GREGORIAN
X-WR-CALNAME:Cactus Club
BEGIN:VEVENT
CREATED:20260216T183141Z
UID:49509
DTSTAMP:20260419T125729Z
DTSTART:20260313T223000
DTEND:20260314T013000
LOCATION:Cactus Club\, 2496 S. Wentworth Avenue\, Milwaukee\, WI 53207\, United States
DESCRIPTION:
SUMMARY:Good Vibes Only: Juaniee GC • Good Luck Reco • Ki’amora • AC The Ruler • Vegaz Rose • Gekeonay • Paperstacks • Tae Tha Don
ORGANIZER:Cactus Club
URL;VALUE=URI:https://www.cactusclubmilwaukee.com/events/good-vibes-only-juaniee-gc-good-luck-reco-kiamora-ac-the-ruler-vegaz-rose-gekeonay-paperstacks-tae-tha-don/
TRANSP:OPAQUE
END:VEVENT
END:VCALENDAR
