BEGIN:VCALENDAR
VERSION:2.0
PRODID:-//Cactus Club //NONSGML Events //EN
CALSCALE:GREGORIAN
X-WR-CALNAME:Cactus Club
BEGIN:VEVENT
CREATED:20260218T180543Z
UID:49575
DTSTAMP:20260421T084118Z
DTSTART:20260509T183000
DTEND:20260509T213000
LOCATION:Cactus Club\, 2496 S. Wentworth Avenue\, Milwaukee\, WI 53207\, United States
DESCRIPTION:
SUMMARY:Ducks Ltd. • Telethon • Breakup Tour
ORGANIZER:Cactus Club
URL;VALUE=URI:https://www.cactusclubmilwaukee.com/events/ducks-ltd/
TRANSP:OPAQUE
END:VEVENT
END:VCALENDAR
