BEGIN:VCALENDAR
VERSION:2.0
PRODID:-//Cactus Club //NONSGML Events //EN
CALSCALE:GREGORIAN
X-WR-CALNAME:Cactus Club
BEGIN:VEVENT
CREATED:20260218T182617Z
UID:49583
DTSTAMP:20260421T084206Z
DTSTART:20260404T140000
DTEND:20260404T170000
LOCATION:Cactus Club\, 2496 S. Wentworth Avenue\, Milwaukee\, WI 53207\, United States
DESCRIPTION:
SUMMARY:Locked Shut • Bad World • Kali-Ma • Adrenochrome
ORGANIZER:Cactus Club
URL;VALUE=URI:https://www.cactusclubmilwaukee.com/events/locked-shut-bad-world-kali-ma-adrenochrome/
TRANSP:OPAQUE
END:VEVENT
END:VCALENDAR
