BEGIN:VCALENDAR
VERSION:2.0
PRODID:-//Cactus Club //NONSGML Events //EN
CALSCALE:GREGORIAN
X-WR-CALNAME:Cactus Club
BEGIN:VEVENT
CREATED:20260302T222345Z
UID:49823
DTSTAMP:20260421T084308Z
DTSTART:20260326T190000
DTEND:20260326T220000
LOCATION:Cactus Club\, 2496 S. Wentworth Avenue\, Milwaukee\, WI 53207\, United States
DESCRIPTION:
SUMMARY:The Fainting Room • Official Claire • Nineteen Thirteen
ORGANIZER:Cactus Club
URL;VALUE=URI:https://www.cactusclubmilwaukee.com/events/the-fainting-room-official-claire-nineteen-thirteen/
TRANSP:OPAQUE
END:VEVENT
END:VCALENDAR
