BEGIN:VCALENDAR
VERSION:2.0
PRODID:-//Cactus Club //NONSGML Events //EN
CALSCALE:GREGORIAN
X-WR-CALNAME:Cactus Club
BEGIN:VEVENT
CREATED:20180502T220031Z
UID:5012
DTSTAMP:20260425T152904Z
DTSTART:20180519T000000
DTEND:20180519T030000
LOCATION:Cactus Club\, 2496 S. Wentworth Avenue\, Milwaukee\, WI 53207\, United States
DESCRIPTION:Pabst Milwaukee Brewery and Taproom will host a 1 year anniversary Pabst Street Festival on May 19th <table class="uiGrid _51mz" cellspacing="0" cellpadding="0"> <tbody> <tr class="_51mx"> <td class="_51m- _phw"> <div class="_6a" aria-hidden="true"> <div class="_6a _6b"></div> </div></td> <td class="_51m- _51mw"> <div class="_4930"> <div class="_4dpf _phw"> <div class="_6a"> <div class="_6a _6b"></div> <div class="_6a _6b"> <div class="_xkh"> <a id="u_0_17" class="_5xhk" href="https://www.facebook.com/PabstBrewery/" data-hovercard="/ajax/hovercard/page.php?id=209832772816946" data-hovercard-prefer-more-content-show="1">Pabst Milwaukee Brewery & Taproom</a> <div class="_5xhp fsm fwn fcg">1037 West Juneau Avenue, Milwaukee, Wisconsin 53233</div> </div> </div> </div> </div> </div></td> </tr> </tbody> </table> This year’s event will run from noon to 7 p.m. on Juneau Avenue between 10th and 11th streets and will feature outdoor performances from a variety of musical acts presented by <a href="https://www.facebook.com/CactusClubmke/" data-hovercard="/ajax/hovercard/page.php?id=203081816867&extragetparams=%7B%22directed_target_id%22%3A2077161175894651%7D" data-hovercard-prefer-more-content-show="1">Cactus Club</a> – including <a href="https://www.facebook.com/platinumboysUSA/" data-hovercard="/ajax/hovercard/page.php?id=448240731944353&extragetparams=%7B%22directed_target_id%22%3A2077161175894651%7D" data-hovercard-prefer-more-content-show="1">Platinum Boys</a>, <a href="https://www.facebook.com/ZEDKENZO/" data-hovercard="/ajax/hovercard/page.php?id=1489561564606143&extragetparams=%7B%22directed_target_id%22%3A2077161175894651%7D" data-hovercard-prefer-more-content-show="1">ZED KENZO</a>, Mary Allen and The Percolators, <a href="https://www.facebook.com/RicWilsonisme/" data-hovercard="/ajax/hovercard/page.php?id=155730214450990&extragetparams=%7B%22directed_target_id%22%3A2077161175894651%7D" data-hovercard-prefer-more-content-show="1">Ric Wilson</a>, <a href="https://www.facebook.com/carosofresh/" data-hovercard="/ajax/hovercard/page.php?id=55461346927&extragetparams=%7B%22directed_target_id%22%3A2077161175894651%7D" data-hovercard-prefer-more-content-show="1">Caroline Smith</a>, and<a href="https://www.facebook.com/nostresscollective/" data-hovercard="/ajax/hovercard/page.php?id=327040884334621&extragetparams=%7B%22directed_target_id%22%3A2077161175894651%7D" data-hovercard-prefer-more-content-show="1">No Stress Collective</a>l. The headlining act will be announced soon. The festival will feature a marketplace of local artists and artisans, along with local food trucks and Pabst Milwaukee Brewery beer. Admission is free. New this year, <a href="https://www.facebook.com/thegetdown/" data-hovercard="/ajax/hovercard/page.php?id=86774491535&extragetparams=%7B%22directed_target_id%22%3A2077161175894651%7D" data-hovercard-prefer-more-content-show="1">The Get Down - Milwaukee Funk and Soul Dance Party</a>afterparty will take place inside the Pabs<span class="text_exposed_show">t Milwaukee Brewery and Taproom starting at 9 p.m. This popular Milwaukee funk and soul dance party will keep the celebration going inside the 145-year old church turned brewery space.</span> Outdoor Stage Presented By: <a href="https://www.facebook.com/CactusClubmke/" data-hovercard="/ajax/hovercard/page.php?id=203081816867&extragetparams=%7B%22directed_target_id%22%3A2077161175894651%7D" data-hovercard-prefer-more-content-show="1">Cactus Club</a> <h2><a href="https://www.facebook.com/nnamdisoopersecret/">NNAMDI OGBONNAYA</a></h2> <h2><a href="https://www.facebook.com/platinumboysUSA/" data-hovercard="/ajax/hovercard/page.php?id=448240731944353&extragetparams=%7B%22directed_target_id%22%3A2077161175894651%7D" data-hovercard-prefer-more-content-show="1">Platinum Boys</a> <a href="https://www.facebook.com/ZEDKENZO/" data-hovercard="/ajax/hovercard/page.php?id=1489561564606143&extragetparams=%7B%22directed_target_id%22%3A2077161175894651%7D" data-hovercard-prefer-more-content-show="1">ZED KENZO</a> Mary Allen and The Percolators <a href="https://www.facebook.com/RicWilsonisme/" data-hovercard="/ajax/hovercard/page.php?id=155730214450990&extragetparams=%7B%22directed_target_id%22%3A2077161175894651%7D" data-hovercard-prefer-more-content-show="1">Ric Wilson</a> <a href="https://www.facebook.com/carosofresh/" data-hovercard="/ajax/hovercard/page.php?id=55461346927&extragetparams=%7B%22directed_target_id%22%3A2077161175894651%7D" data-hovercard-prefer-more-content-show="1">Caroline Smith</a> <a href="https://www.facebook.com/nostresscollective/" data-hovercard="/ajax/hovercard/page.php?id=327040884334621&extragetparams=%7B%22directed_target_id%22%3A2077161175894651%7D" data-hovercard-prefer-more-content-show="1">No Stress Collective</a> (DJ between acts)</h2> Sponsored By: <a href="https://www.facebook.com/88nine/" data-hovercard="/ajax/hovercard/page.php?id=77448067477&extragetparams=%7B%22directed_target_id%22%3A2077161175894651%7D" data-hovercard-prefer-more-content-show="1">88Nine RadioMilwaukee</a>, <a href="https://www.facebook.com/milwaukeerecord/" data-hovercard="/ajax/hovercard/page.php?id=135121436658491&extragetparams=%7B%22directed_target_id%22%3A2077161175894651%7D" data-hovercard-prefer-more-content-show="1">Milwaukee Record</a>, Vim + Vigor
SUMMARY:Pabst Milwaukee Brewery 1 Year Anniversary Street Fest
ORGANIZER:Cactus Club
URL;VALUE=URI:https://www.cactusclubmilwaukee.com/events/pabst-milwaukee-brewery-1-year-anniversary-street-fest/
TRANSP:OPAQUE
END:VEVENT
END:VCALENDAR
